BEGIN:VCALENDAR
VERSION:2.0
PRODID:-//Portal de la Secretaría de Ciudad Inteligente y Transformación Digital - ECPv6.15.20//NONSGML v1.0//EN
CALSCALE:GREGORIAN
METHOD:PUBLISH
X-WR-CALNAME:Portal de la Secretaría de Ciudad Inteligente y Transformación Digital
X-ORIGINAL-URL:https://ciudadinteligente.cordoba.gob.ar
X-WR-CALDESC:Eventos para Portal de la Secretaría de Ciudad Inteligente y Transformación Digital
REFRESH-INTERVAL;VALUE=DURATION:PT1H
X-Robots-Tag:noindex
X-PUBLISHED-TTL:PT1H
BEGIN:VTIMEZONE
TZID:America/Sao_Paulo
BEGIN:STANDARD
TZOFFSETFROM:-0300
TZOFFSETTO:-0300
TZNAME:-03
DTSTART:20240101T000000
END:STANDARD
END:VTIMEZONE
BEGIN:VEVENT
DTSTART;TZID=America/Sao_Paulo:20250822T120000
DTEND;TZID=America/Sao_Paulo:20250905T133000
DTSTAMP:20260420T195903
CREATED:20250804T155329Z
LAST-MODIFIED:20250804T160124Z
UID:3515-1755864000-1757079000@ciudadinteligente.cordoba.gob.ar
SUMMARY:Gobiernos en la era de la IA con Santiago Siri
DESCRIPTION:La inteligencia artificial está cambiando la manera en que trabajamos\, tomamos decisiones y prestamos servicios. En el ámbito público\, su potencial es enorme: desde automatizar tareas administrativas hasta generar políticas basadas en evidencia en tiempo real. Sin embargo\, este avance vertiginoso también plantea un desafío: ¿estamos preparados\, como gobiernos locales\, para aprovechar la IA de forma ética\, estratégica y al servicio de la ciudadanía? \nCon este interrogante como punto de partida\, RIL lanza el ciclo de capacitación “Gobiernos en la Era de la IA”\, un espacio especialmente diseñado para agentes de gobierno que quieren comprender en profundidad estas tecnologías y aprender a integrarlas en la gestión pública. \n¿Qué vas a aprender?\nEn tres encuentros virtuales\, trabajaremos sobre: \n\nFundamentos de la IA: qué es\, cómo funciona y por qué está revolucionando la manera de gobernar.\nAplicaciones prácticas en gobiernos locales: desde la automatización de procesos hasta el diseño de políticas públicas con IA.\nFuturo y estrategia: cómo prepararte para los cambios que vienen y liderar la transformación digital en tu territorio.\n\nUn referente regional como guía\nEl ciclo contará con la participación de Santiago Siri\, una de las voces más influyentes en tecnología y política de América Latina. Siri es autor de Hacktivismo y Tecnosapiens\, fundador de Democracy Earth\, cocreador de la DAO Proof of Humanity y conductor de La Última Frontera\, el podcast tech más escuchado de Argentina. Su mirada combina innovación tecnológica con visión de impacto social\, clave para los gobiernos que buscan liderar en esta nueva era. \nFechas y horarios\n Viernes 22 y 29 de agosto\, y 5 de septiembre\n Horario: \n\n12:00 a 13:30 (ARG\, URU)\n10:00 a 11:30 (COL)\n09:00 a 10:30 (MEX)\n\n Modalidad: Virtual y gratuita \nInscripciones abiertas\n Más info acá: https://innovab.cordoba.gob.ar/contenidos/ril-gobiernos-en-la-era-de-la-ia
URL:https://ciudadinteligente.cordoba.gob.ar/evento/3515/
LOCATION:Postulación virtual
ATTACH;FMTTYPE=image/jpeg:https://ciudadinteligente.cordoba.gob.ar/wp-content/uploads/2025/08/WhatsApp-Image-2025-08-04-at-12.06.52-PM-1-e1754323280897.jpeg
END:VEVENT
END:VCALENDAR