BEGIN:VCALENDAR
VERSION:2.0
PRODID:-//Portal de la Secretaría de Ciudad Inteligente y Transformación Digital - ECPv6.15.20//NONSGML v1.0//EN
CALSCALE:GREGORIAN
METHOD:PUBLISH
X-WR-CALNAME:Portal de la Secretaría de Ciudad Inteligente y Transformación Digital
X-ORIGINAL-URL:https://ciudadinteligente.cordoba.gob.ar
X-WR-CALDESC:Eventos para Portal de la Secretaría de Ciudad Inteligente y Transformación Digital
REFRESH-INTERVAL;VALUE=DURATION:PT1H
X-Robots-Tag:noindex
X-PUBLISHED-TTL:PT1H
BEGIN:VTIMEZONE
TZID:America/Sao_Paulo
BEGIN:STANDARD
TZOFFSETFROM:-0300
TZOFFSETTO:-0300
TZNAME:-03
DTSTART:20240101T000000
END:STANDARD
END:VTIMEZONE
BEGIN:VEVENT
DTSTART;TZID=America/Sao_Paulo:20250724T163000
DTEND;TZID=America/Sao_Paulo:20250724T170000
DTSTAMP:20260420T202224
CREATED:20250721T142614Z
LAST-MODIFIED:20250721T142716Z
UID:3461-1753374600-1753376400@ciudadinteligente.cordoba.gob.ar
SUMMARY:Ciclo de entrenamientos para personas migrantes o refugiadas que quieran emprender con metodología IMESUN
DESCRIPTION:• Serán 6 encuentros con modalidad presencial\, de 16:30 a 18:30 horas en CAPEM\, Caseros 356.\n• El cursado comienza este jueves 24. \nLa Municipalidad de Córdoba\, a través del Centro de Atención a Personas Migrantes y Refugiadas (CAPeM) ofrece una gran variedad de actividades culturales y talleres gratuitas\, dirigidas a todos los vecinos de la ciudad. \nEn este contexto\, y organizado por: CAPEM\, Organización Internacional del Trabajo (OIT)\, Lazos\, Suecia Averig\, IMESUN con el acompañamiento de la Municipalidad de Córdoba\, llega un ciclo de entrenamientos de IMESUN destinados a crear una idea de negocio y/o fortalecer un emprendimiento local. \nCon más de 40 ideas y emprendimientos\, este es un programa de formación en gestión empresarial desarrollado por la Organización Internacional del Trabajo (OIT) para personas migrantes o refugiadas. \nCon modalidad presencial\, los encuentros serán 6 y se realizarán los días jueves de 16:30 a 18:30 horas a partir del 24 de julio en la sede de CAPEM\, Caseros 356. \nPara poder inscribirte a este curso sin costo que te dará herramientas para potenciar tu emprendimiento\, completá el siguiente formulario: https://docs.google.com/forms/d/e/1FAIpQLScNRj5wGYCnwA6PgSPIwiFV1U_lemxwCCQncRr9oIhzIkb3vg/viewform Los cupos son limitados\, esta propuesta está especialmente dirigida a personas migrantes y refugiadas que vivan en la Ciudad. \n  \n \nPara mayor información enviar un mail a: capemcordoba@gmail.com.
URL:https://ciudadinteligente.cordoba.gob.ar/evento/ciclo-de-entrenamientos-para-personas-migrantes-o-refugiadas-que-quieran-emprender-con-metodologia-imesun/
LOCATION:CAPEM\, Caseros 356\, Córdoba
ATTACH;FMTTYPE=image/jpeg:https://ciudadinteligente.cordoba.gob.ar/wp-content/uploads/2025/07/0-e1753108032297.jpeg
END:VEVENT
END:VCALENDAR