BEGIN:VCALENDAR
VERSION:2.0
PRODID:-//Portal de la Secretaría de Ciudad Inteligente y Transformación Digital - ECPv6.15.20//NONSGML v1.0//EN
CALSCALE:GREGORIAN
METHOD:PUBLISH
X-WR-CALNAME:Portal de la Secretaría de Ciudad Inteligente y Transformación Digital
X-ORIGINAL-URL:https://ciudadinteligente.cordoba.gob.ar
X-WR-CALDESC:Eventos para Portal de la Secretaría de Ciudad Inteligente y Transformación Digital
REFRESH-INTERVAL;VALUE=DURATION:PT1H
X-Robots-Tag:noindex
X-PUBLISHED-TTL:PT1H
BEGIN:VTIMEZONE
TZID:America/Sao_Paulo
BEGIN:STANDARD
TZOFFSETFROM:-0300
TZOFFSETTO:-0300
TZNAME:-03
DTSTART:20240101T000000
END:STANDARD
END:VTIMEZONE
BEGIN:VEVENT
DTSTART;TZID=America/Sao_Paulo:20250717T090000
DTEND;TZID=America/Sao_Paulo:20250802T200000
DTSTAMP:20260420T201531
CREATED:20250722T160126Z
LAST-MODIFIED:20250722T160231Z
UID:3480-1752742800-1754164800@ciudadinteligente.cordoba.gob.ar
SUMMARY:Conocé la historia y la cultura de Montenegro
DESCRIPTION:La muestra estará disponible en la sede del Centro de Atención a Personas Migrantes y Refugiadas (CAPeM) ubicada en Caseros 356.\nPodrá visitarse hasta el 2 de agosto\, de lunes a viernes de 9:00 a 20:00 horas.\n\n\nLa Municipalidad de Córdoba\, a través del Centro de Atención a Personas Migrantes y Refugiadas (CAPeM)\, junto a la Unión de Colectividades Inmigrantes de Córdoba (UCIC)\, ofrece actividades culturales gratuitas dirigidas a todos los vecinos de la ciudad \nYa se encuentra disponible la muestra “Historia y Cultura de Montenegro”\, un país del sureste de Europa que cuenta con una colectividad muy activa en la ciudad de Córdoba. \nEn el mes del “Día del Estado de Montenegro” esta exposición sobre la cultura y la historia del país\, permiten viajar y conocer desde el centro de la ciudad de Córdoba\, un país que sentimos así más cerca\, gracias a su comunidad. \nEn esta ocasión\, las muestras que se exhiben son tres: \n\n\n“Impresión cirílica montenegrina de los siglos XV y Xvl”: se explaya de la imprenta montenegrina en escritura cirílica durante los siglos XV y XVI y de la imprenta de la dinastía montenegrina Crnojevic\, como la primera imprenta estatal en Europa y la primera imprenta cirílica entre los eslavos del sur. \n\n\n“13 de julio. Años de resistencia y orgullo”: está dedicada a una de las fechas más significativas de la historia reciente de Montenegro: el levantamiento nacional del pueblo montenegrino el 13 de julio de 1941 contra el fascismo y la ocupación\, el día en que el pueblo montenegrino levantó primero un levantamiento en la Europa ocupada y así confirmó una vez más su espíritu libertario. \n\n\n“Trajes nacionales montenegrinos”: hace referencia a los trajes típicos montenegrinos tanto de hombre como de mujer y de los detalles de sus bordados que lo hacen especiales. \n\n\nLas exposiciones\, preparadas especialmente por la Matica Crnogorska\, son derivadas de exposiciones originales más extensas\, e incluyen paneles ilustrados\, catálogos con un texto de autor más extenso presentados en idioma español. \nLa muestra estará disponible hasta el 2 de agosto y puede visitarse de lunes a viernes\, de 09:00 a 20:00 horas\, de manera libre y gratuita.
URL:https://ciudadinteligente.cordoba.gob.ar/evento/conoce-la-historia-y-la-cultura-de-montenegro/
LOCATION:CAPEM\, Caseros 356\, Córdoba
ATTACH;FMTTYPE=image/jpeg:https://ciudadinteligente.cordoba.gob.ar/wp-content/uploads/2025/07/Flyer_Historia-y-Cultura-de-Montenegro_X-1.jpg
END:VEVENT
END:VCALENDAR