BEGIN:VCALENDAR
VERSION:2.0
PRODID:-//Portal de la Secretaría de Ciudad Inteligente y Transformación Digital - ECPv6.15.20//NONSGML v1.0//EN
CALSCALE:GREGORIAN
METHOD:PUBLISH
X-WR-CALNAME:Portal de la Secretaría de Ciudad Inteligente y Transformación Digital
X-ORIGINAL-URL:https://ciudadinteligente.cordoba.gob.ar
X-WR-CALDESC:Eventos para Portal de la Secretaría de Ciudad Inteligente y Transformación Digital
REFRESH-INTERVAL;VALUE=DURATION:PT1H
X-Robots-Tag:noindex
X-PUBLISHED-TTL:PT1H
BEGIN:VTIMEZONE
TZID:America/Sao_Paulo
BEGIN:STANDARD
TZOFFSETFROM:-0300
TZOFFSETTO:-0300
TZNAME:-03
DTSTART:20240101T000000
END:STANDARD
END:VTIMEZONE
BEGIN:VEVENT
DTSTART;VALUE=DATE:20250625
DTEND;VALUE=DATE:20250627
DTSTAMP:20260420T184212
CREATED:20250618T143100Z
LAST-MODIFIED:20250618T151308Z
UID:3358-1750809600-1750982399@ciudadinteligente.cordoba.gob.ar
SUMMARY:Córdoba en la Expo Smart City Santiago del Estero
DESCRIPTION:📍 El 25 y 26 de junio\, nos sumamos al evento más importante del país sobre ciudades inteligentes en Santiago del Estero. Donde líderes\, especialistas y organizaciones se reúnen para pensar\, debatir y transformar nuestras ciudades en lugares más sustentables\, productivos y centrados en las personas 🌍💬 \nDesde la Secretaría de Ciudad Inteligente y Transformación Digital de Córdoba vamos a compartir experiencias\, mostrar nuestros avances en innovación pública\, estrategias govtech y seguir construyendo redes con otras ciudades que apuestan al futuro 💡🤝 Mirá https://www.instagram.com/p/DLApf5zxQDF/  \n🧠 Con una agenda diversa y espacios de diálogo\, seguimos impulsando el desarrollo regional\, el trabajo colaborativo y la innovación al servicio de los ciudadanos. \n¡Nos vemos en Santiago! 👋🏾 \n#CórdobaInteligente #TransformaciónDigital #ExpoSDE2025 #InnovaciónPública #CiudadesQueInspiran #SmartCityExpo #CiudadesHumanas #DesarrolloSostenible 
URL:https://ciudadinteligente.cordoba.gob.ar/evento/cordoba-en-la-expo-smart-city-santiago-del-estero/
LOCATION:Santiago Del Estero
ATTACH;FMTTYPE=image/jpeg:https://ciudadinteligente.cordoba.gob.ar/wp-content/uploads/2025/06/SCESDE25-Manual-de-Marca-1_page-0001-1.jpg
END:VEVENT
END:VCALENDAR