BEGIN:VCALENDAR
VERSION:2.0
PRODID:-//Portal de la Secretaría de Ciudad Inteligente y Transformación Digital - ECPv6.15.20//NONSGML v1.0//EN
CALSCALE:GREGORIAN
METHOD:PUBLISH
X-WR-CALNAME:Portal de la Secretaría de Ciudad Inteligente y Transformación Digital
X-ORIGINAL-URL:https://ciudadinteligente.cordoba.gob.ar
X-WR-CALDESC:Eventos para Portal de la Secretaría de Ciudad Inteligente y Transformación Digital
REFRESH-INTERVAL;VALUE=DURATION:PT1H
X-Robots-Tag:noindex
X-PUBLISHED-TTL:PT1H
BEGIN:VTIMEZONE
TZID:America/Sao_Paulo
BEGIN:STANDARD
TZOFFSETFROM:-0300
TZOFFSETTO:-0300
TZNAME:-03
DTSTART:20240101T000000
END:STANDARD
END:VTIMEZONE
BEGIN:VEVENT
DTSTART;VALUE=DATE:20250218
DTEND;VALUE=DATE:20250219
DTSTAMP:20260420T212912
CREATED:20250127T135454Z
LAST-MODIFIED:20250127T135454Z
UID:2663-1739836800-1739923199@ciudadinteligente.cordoba.gob.ar
SUMMARY:EsencIA
DESCRIPTION:Herramientas de IA para personas +50 y desarrollo de habilidades socioemocionales. \n\nInscripciones hasta el 31/01
URL:https://ciudadinteligente.cordoba.gob.ar/evento/esencia/
LOCATION:Online
ATTACH;FMTTYPE=image/png:https://ciudadinteligente.cordoba.gob.ar/wp-content/uploads/2025/01/banner-para-gacetilla-5.png
END:VEVENT
END:VCALENDAR