BEGIN:VCALENDAR
VERSION:2.0
PRODID:-//Portal de la Secretaría de Ciudad Inteligente y Transformación Digital - ECPv6.15.20//NONSGML v1.0//EN
CALSCALE:GREGORIAN
METHOD:PUBLISH
X-WR-CALNAME:Portal de la Secretaría de Ciudad Inteligente y Transformación Digital
X-ORIGINAL-URL:https://ciudadinteligente.cordoba.gob.ar
X-WR-CALDESC:Eventos para Portal de la Secretaría de Ciudad Inteligente y Transformación Digital
REFRESH-INTERVAL;VALUE=DURATION:PT1H
X-Robots-Tag:noindex
X-PUBLISHED-TTL:PT1H
BEGIN:VTIMEZONE
TZID:America/Sao_Paulo
BEGIN:STANDARD
TZOFFSETFROM:-0300
TZOFFSETTO:-0300
TZNAME:-03
DTSTART:20240101T000000
END:STANDARD
END:VTIMEZONE
BEGIN:VEVENT
DTSTART;TZID=America/Sao_Paulo:20250514T083000
DTEND;TZID=America/Sao_Paulo:20250514T170000
DTSTAMP:20260420T200249
CREATED:20250508T154315Z
LAST-MODIFIED:20250508T154315Z
UID:3258-1747211400-1747242000@ciudadinteligente.cordoba.gob.ar
SUMMARY:Experiencia Endeavor 2025
DESCRIPTION:¡Preparáte para el encuentro de emprendedores más esperado en Córdoba!🚀 #ExperienciaEndeavorCórdoba2025 \n🌈 Experimenta una jornada única con: \n👉🏻Charlas que inspiran y transforman \n👉🏻Oportunidades de networking inigualables. \n👉🏻Capacitaciones exclusivas por parte de los expertos de Endeavor y personalidades destacadas de Argentina y el mundo 🌍. \nTodo esto en un mismo lugar 🤩. \n🚀Unite a nosotros en #ExperienciaEndeavorCórdoba 🚀  \n📅 Fecha: 14 de Mayoo \n⌚ Hora: Desde las 8:30 hs \n📍 Lugar: Centro de Convenciones Córdoba \n¡No te quedes sin lugar!  \nComprá tu entrada acá:  \nhttps://www.eventos-endeavor.com/event/8192 
URL:https://ciudadinteligente.cordoba.gob.ar/evento/experiencia-endeavor-2025/
LOCATION:centro de convenciones cordoba\, centro de convenciones cordoba
ATTACH;FMTTYPE=image/jpeg:https://ciudadinteligente.cordoba.gob.ar/wp-content/uploads/2025/05/Feed_1.jpg
END:VEVENT
END:VCALENDAR