BEGIN:VCALENDAR
VERSION:2.0
PRODID:-//Portal de la Secretaría de Ciudad Inteligente y Transformación Digital - ECPv6.15.20//NONSGML v1.0//EN
CALSCALE:GREGORIAN
METHOD:PUBLISH
X-WR-CALNAME:Portal de la Secretaría de Ciudad Inteligente y Transformación Digital
X-ORIGINAL-URL:https://ciudadinteligente.cordoba.gob.ar
X-WR-CALDESC:Eventos para Portal de la Secretaría de Ciudad Inteligente y Transformación Digital
REFRESH-INTERVAL;VALUE=DURATION:PT1H
X-Robots-Tag:noindex
X-PUBLISHED-TTL:PT1H
BEGIN:VTIMEZONE
TZID:America/Sao_Paulo
BEGIN:STANDARD
TZOFFSETFROM:-0300
TZOFFSETTO:-0300
TZNAME:-03
DTSTART:20240101T000000
END:STANDARD
END:VTIMEZONE
BEGIN:VEVENT
DTSTART;VALUE=DATE:20250228
DTEND;VALUE=DATE:20250301
DTSTAMP:20260420T200734
CREATED:20250115T151726Z
LAST-MODIFIED:20250115T151726Z
UID:2599-1740700800-1740787199@ciudadinteligente.cordoba.gob.ar
SUMMARY:Fondo Córdoba Ciudad Inteligente | Convocatoria 5
DESCRIPTION:El Fondo Córdoba Ciudad Inteligente es una iniciativa de la Municipalidad de Córdoba y BID Lab que busca tender un puente entre el ecosistema emprendedor y que desarrolla soluciones innovadoras para la mejora en la calidad de vida de los ciudadanos. \nLa quinta convocatoria está abierta a startups de Argentina y de toda Iberoamérica. Las startups interesadas ​​podrán postular hasta el 28 de febrero del 2025.  \nLas bases y condiciones de la convocatoria ya están disponibles en el sitio web oficial: fondocci.cordoba.gob.ar
URL:https://ciudadinteligente.cordoba.gob.ar/evento/fondo-cordoba-ciudad-inteligente-convocatoria-5/
LOCATION:Postulación virtual
ATTACH;FMTTYPE=image/png:https://ciudadinteligente.cordoba.gob.ar/wp-content/uploads/2025/01/banner-para-noticias-Wordpress-FONDO-CCI.png
END:VEVENT
END:VCALENDAR