BEGIN:VCALENDAR
VERSION:2.0
PRODID:-//Portal de la Secretaría de Ciudad Inteligente y Transformación Digital - ECPv6.15.20//NONSGML v1.0//EN
CALSCALE:GREGORIAN
METHOD:PUBLISH
X-WR-CALNAME:Portal de la Secretaría de Ciudad Inteligente y Transformación Digital
X-ORIGINAL-URL:https://ciudadinteligente.cordoba.gob.ar
X-WR-CALDESC:Eventos para Portal de la Secretaría de Ciudad Inteligente y Transformación Digital
REFRESH-INTERVAL;VALUE=DURATION:PT1H
X-Robots-Tag:noindex
X-PUBLISHED-TTL:PT1H
BEGIN:VTIMEZONE
TZID:America/Sao_Paulo
BEGIN:STANDARD
TZOFFSETFROM:-0300
TZOFFSETTO:-0300
TZNAME:-03
DTSTART:20240101T000000
END:STANDARD
END:VTIMEZONE
BEGIN:VEVENT
DTSTART;TZID=America/Sao_Paulo:20250131T000000
DTEND;TZID=America/Sao_Paulo:20250217T000000
DTSTAMP:20260420T182807
CREATED:20250127T140356Z
LAST-MODIFIED:20250127T140356Z
UID:2667-1738281600-1739750400@ciudadinteligente.cordoba.gob.ar
SUMMARY:GenIA
DESCRIPTION:Formación en inteligencia artificial generativa para alfabetización digital y empleo.
URL:https://ciudadinteligente.cordoba.gob.ar/evento/genia/
LOCATION:Virtual y Asincronico
ATTACH;FMTTYPE=image/png:https://ciudadinteligente.cordoba.gob.ar/wp-content/uploads/2025/01/banner-para-gacetilla-4.png
END:VEVENT
END:VCALENDAR