BEGIN:VCALENDAR
VERSION:2.0
PRODID:-//Portal de la Secretaría de Ciudad Inteligente y Transformación Digital - ECPv6.15.20//NONSGML v1.0//EN
CALSCALE:GREGORIAN
METHOD:PUBLISH
X-WR-CALNAME:Portal de la Secretaría de Ciudad Inteligente y Transformación Digital
X-ORIGINAL-URL:https://ciudadinteligente.cordoba.gob.ar
X-WR-CALDESC:Eventos para Portal de la Secretaría de Ciudad Inteligente y Transformación Digital
REFRESH-INTERVAL;VALUE=DURATION:PT1H
X-Robots-Tag:noindex
X-PUBLISHED-TTL:PT1H
BEGIN:VTIMEZONE
TZID:America/Sao_Paulo
BEGIN:STANDARD
TZOFFSETFROM:-0300
TZOFFSETTO:-0300
TZNAME:-03
DTSTART:20240101T000000
END:STANDARD
END:VTIMEZONE
BEGIN:VEVENT
DTSTART;VALUE=DATE:20250120
DTEND;VALUE=DATE:20250121
DTSTAMP:20260420T200259
CREATED:20250127T141928Z
LAST-MODIFIED:20250127T141928Z
UID:2672-1737331200-1737417599@ciudadinteligente.cordoba.gob.ar
SUMMARY:Herramientas digitales para emprendedores
DESCRIPTION:Herramientas digitales para mejorar el alcance y visibilidad de tu negocio o emprendimiento. \n\nTemas principales:\n\nTransformación digital: Herramientas como Google Mi Negocio y Google Ads.\nE-commerce: Plataformas como Mercado Libre y Tienda Nube.\nMedios de pago: Uso de billeteras virtuales como Mercado Pago.\nRedes sociales para ventas: Facebook Business Manager y Marketplace.\nCreación de contenido: Herramientas como Canva y Google Trends.\nNuevos modelos de negocio: Plataformas de e-learning\, turismo y gestión de eventos.\n\n\nDocente: Francisco Frontalini.\nModalidad: Asincrónica\, sin requisitos previos.Este curso es ideal para emprendedores que buscan aprovechar las tecnologías digitales para optimizar y expandir su negocio.\nANOTATE ACÁ
URL:https://ciudadinteligente.cordoba.gob.ar/evento/herramientas-digitales-para-emprendedores/
LOCATION:Online – Asincronico
ATTACH;FMTTYPE=image/png:https://ciudadinteligente.cordoba.gob.ar/wp-content/uploads/2025/01/banner-para-gacetilla-1.png
END:VEVENT
END:VCALENDAR