BEGIN:VCALENDAR
VERSION:2.0
PRODID:-//Portal de la Secretaría de Ciudad Inteligente y Transformación Digital - ECPv6.15.20//NONSGML v1.0//EN
CALSCALE:GREGORIAN
METHOD:PUBLISH
X-WR-CALNAME:Portal de la Secretaría de Ciudad Inteligente y Transformación Digital
X-ORIGINAL-URL:https://ciudadinteligente.cordoba.gob.ar
X-WR-CALDESC:Eventos para Portal de la Secretaría de Ciudad Inteligente y Transformación Digital
REFRESH-INTERVAL;VALUE=DURATION:PT1H
X-Robots-Tag:noindex
X-PUBLISHED-TTL:PT1H
BEGIN:VTIMEZONE
TZID:America/Sao_Paulo
BEGIN:STANDARD
TZOFFSETFROM:-0300
TZOFFSETTO:-0300
TZNAME:-03
DTSTART:20240101T000000
END:STANDARD
END:VTIMEZONE
BEGIN:VEVENT
DTSTART;TZID=America/Sao_Paulo:20250328T110000
DTEND;TZID=America/Sao_Paulo:20250411T123000
DTSTAMP:20260420T200117
CREATED:20250321T142014Z
LAST-MODIFIED:20250321T142817Z
UID:3049-1743159600-1744374600@ciudadinteligente.cordoba.gob.ar
SUMMARY:IA EN LA GESTION PUBLICA
DESCRIPTION:📊 Oportunidad para agentes públicos que quieran formarse en el uso de la #InteligenciaArtificial para mejorar la calidad y eficiencia en la administración pública. \n📅 A partir del viernes 28 de marzo\, todos los viernes a las 11:00 AM (ARG)\, un nuevo webinar para discutir sobre las oportunidades y desafíos de la #IA en la Gestión Pública junto a expertos como Laura Alonso Alemany y Andrés Piazza. \n📝 Agenda del Ciclo: 📌 Webinar #1: Introducción a la IA y su impacto en la gestión pública 📆 28 de marzo de 2025 – 11:00 AM (ARG) \n📌 Webinar #2: Oportunidades y desafíos de la IA en la administración pública 📆 4 de abril de 2025 – 11:00 AM (ARG) \n📌 Webinar #3: Tendencias y futuro de la IA en el sector público 📆 11 de abril de 2025 – 11:00 AM (ARG) \n🔹 Speakers: Andrés Piazza y Laura Alonso Alemany.\n🔹 Modalidad: Virtual y gratuita.\n🔹 Organizan: AI League For Good y Coalición de Ciudades para la IA en Argentina (CIIAR). \n💡 La incorporación de IA en la gestión pública permite una mayor eficiencia en los procesos administrativos y mejora la calidad de los servicios a la ciudadanía. Desde la automatización de trámites hasta la toma de decisiones basada en datos\, la IA es clave para construir gobiernos más ágiles\, transparentes y cercanos a la sociedad. \n🌐 En un mundo donde la tecnología avanza rápidamente\, es fundamental que los funcionarios se capaciten en nuevas herramientas digitales. Este ciclo de webinars es una oportunidad única para adquirir conocimientos clave y modernizar la gestión pública. \n🏛️ Destinado a agentes públicos de los municipios miembro de CIIAR: Córdoba\, Rosario\, Neuquén\, Mendoza\, San Miguel de Tucumán\, Tres de Febrero\, Escobar\, Pilar\, Catamarca y Salta. \n💻👉🏻  Inscripciones y más información: https://lnkd.in/d-Uiza88 \n \n 
URL:https://ciudadinteligente.cordoba.gob.ar/evento/ia-en-la-gestion-publica/
LOCATION:Online
ATTACH;FMTTYPE=image/png:https://ciudadinteligente.cordoba.gob.ar/wp-content/uploads/2025/03/EVENTOS-PAGINA-WEB-usar-este-6.png
END:VEVENT
END:VCALENDAR