BEGIN:VCALENDAR
VERSION:2.0
PRODID:-//Portal de la Secretaría de Ciudad Inteligente y Transformación Digital - ECPv6.15.20//NONSGML v1.0//EN
CALSCALE:GREGORIAN
METHOD:PUBLISH
X-WR-CALNAME:Portal de la Secretaría de Ciudad Inteligente y Transformación Digital
X-ORIGINAL-URL:https://ciudadinteligente.cordoba.gob.ar
X-WR-CALDESC:Eventos para Portal de la Secretaría de Ciudad Inteligente y Transformación Digital
REFRESH-INTERVAL;VALUE=DURATION:PT1H
X-Robots-Tag:noindex
X-PUBLISHED-TTL:PT1H
BEGIN:VTIMEZONE
TZID:America/Sao_Paulo
BEGIN:STANDARD
TZOFFSETFROM:-0300
TZOFFSETTO:-0300
TZNAME:-03
DTSTART:20240101T000000
END:STANDARD
END:VTIMEZONE
BEGIN:VEVENT
DTSTART;VALUE=DATE:20250924
DTEND;VALUE=DATE:20251026
DTSTAMP:20260420T182944
CREATED:20250811T120757Z
LAST-MODIFIED:20250811T120757Z
UID:3568-1758672000-1761436799@ciudadinteligente.cordoba.gob.ar
SUMMARY:Nueva edición de #CórdobaTechWeek
DESCRIPTION:Los días 24 y 25 de septiembre en el Centro de Convenciones Córdoba\, se llevará a cabo uno de los encuentros más importantes en el ámbito de la tecnología y la economía del conocimiento de nuestra región\, que reunirá a referentes\, tanto a nivel nacional como internacional para explorar las tendencias digitales que definirán el futuro. Este espacio será clave para construir conexiones para entender el mundo\, generando vínculos que nos ayuden a comprender los cambios globales impulsados por la innovación. La tecnología como eje central de este encuentro\, conectando diferentes perspectivas y creando el ambiente ideal para el networking y el desarrollo de nuevas oportunidades de negocios. \nCharlas: reunirán a líderes de la industria\, académicos y expertos internacionales para compartir sus conocimientos en temas como: el futuro del trabajo\, la inteligencia artificial\, los negocios y la economía para el desarrollo de la economía del conocimiento\, la competitividad y otros desafíos globales. \nZona Expo: Un espacio donde empresas\, startups y organizaciones presentarán sus productos\, servicios y proyectos más innovadores. \nInterclusters: El evento será la sede del cierre del Programa Intercluster de Economía del Conocimiento de la CEPAL\, una iniciativa destinada a promover la cooperación y el intercambio entre actores clave de la economía del conocimiento en América Latina. \nRonda de negocios: permitirá a las empresas locales conectar con operadores internacionales\, facilitando la creación de alianzas estratégicas\, la expansión de mercados y el acceso a nuevas oportunidades. \nEste evento está dirigido a referentes tecnológicos locales e internacionales\, representantes gubernamentales\, empresarios del sector industrial\, emprendedores y startups\, universidades y estudiantes\, así como al público general apasionado por la tecnología. \n¡No te pierdas la oportunidad de ser parte de un encuentro único de articulación regional!\nMás info e inscripciones acá: https://cordobatechweek.com/ 
URL:https://ciudadinteligente.cordoba.gob.ar/evento/nueva-edicion-de-cordobatechweek/
LOCATION:centro de convenciones cordoba\, centro de convenciones cordoba
ATTACH;FMTTYPE=image/png:https://ciudadinteligente.cordoba.gob.ar/wp-content/uploads/2025/08/CTW.png
END:VEVENT
END:VCALENDAR