BEGIN:VCALENDAR
VERSION:2.0
PRODID:-//Portal de la Secretaría de Ciudad Inteligente y Transformación Digital - ECPv6.15.20//NONSGML v1.0//EN
CALSCALE:GREGORIAN
METHOD:PUBLISH
X-WR-CALNAME:Portal de la Secretaría de Ciudad Inteligente y Transformación Digital
X-ORIGINAL-URL:https://ciudadinteligente.cordoba.gob.ar
X-WR-CALDESC:Eventos para Portal de la Secretaría de Ciudad Inteligente y Transformación Digital
REFRESH-INTERVAL;VALUE=DURATION:PT1H
X-Robots-Tag:noindex
X-PUBLISHED-TTL:PT1H
BEGIN:VTIMEZONE
TZID:America/Sao_Paulo
BEGIN:STANDARD
TZOFFSETFROM:-0300
TZOFFSETTO:-0300
TZNAME:-03
DTSTART:20240101T000000
END:STANDARD
END:VTIMEZONE
BEGIN:VEVENT
DTSTART;VALUE=DATE:20250218
DTEND;VALUE=DATE:20250219
DTSTAMP:20260420T200744
CREATED:20250116T140856Z
LAST-MODIFIED:20250116T141734Z
UID:2615-1739836800-1739923199@ciudadinteligente.cordoba.gob.ar
SUMMARY:¡Nunca es tarde! Conecta con la tecnología con este curso de IA para mayores de 50
DESCRIPTION:En Menos Brecha\, Más Comunidad creemos que nunca es tarde para aprender. Por eso\, junto a Silvertech\, lanzamos EsencIA\, una formación 100% online y  gratuita sobre Inteligencia Artificial para personas mayores de 50 años. \nTemas: \n\nFundamentos de la IA\nConceptos básicos de Big Data y Machine Learning\nPrompt Engineering y creación de instrucciones efectivas\nHerramientas de IA para tareas cotidianas y la vida profesional\nMantenerse actualizado en el panorama de IA\n\nRequisitos: ser mayor de 50\, vivir en Argentina y manejar herramientas digitales básicas: manejo de mail\, drive y apps de videoconferencia (zoom\, meet). \nInscribite ingresando acá hasta el 31/01/2025. ¡Cupos limitados!\nInicio: 18/02/2025.
URL:https://ciudadinteligente.cordoba.gob.ar/evento/nunca-es-tarde-conecta-con-la-tecnologia-con-este-curso-de-ia-para-mayores-de-50/
LOCATION:Online
ATTACH;FMTTYPE=image/jpeg:https://ciudadinteligente.cordoba.gob.ar/wp-content/uploads/2025/01/banner-menos-brecha-1.jpg
END:VEVENT
END:VCALENDAR