BEGIN:VCALENDAR
VERSION:2.0
PRODID:-//Portal de la Secretaría de Ciudad Inteligente y Transformación Digital - ECPv6.15.20//NONSGML v1.0//EN
CALSCALE:GREGORIAN
METHOD:PUBLISH
X-WR-CALNAME:Portal de la Secretaría de Ciudad Inteligente y Transformación Digital
X-ORIGINAL-URL:https://ciudadinteligente.cordoba.gob.ar
X-WR-CALDESC:Eventos para Portal de la Secretaría de Ciudad Inteligente y Transformación Digital
REFRESH-INTERVAL;VALUE=DURATION:PT1H
X-Robots-Tag:noindex
X-PUBLISHED-TTL:PT1H
BEGIN:VTIMEZONE
TZID:America/Sao_Paulo
BEGIN:STANDARD
TZOFFSETFROM:-0300
TZOFFSETTO:-0300
TZNAME:-03
DTSTART:20240101T000000
END:STANDARD
END:VTIMEZONE
BEGIN:VEVENT
DTSTART;TZID=America/Sao_Paulo:20250701T120000
DTEND;TZID=America/Sao_Paulo:20250703T170000
DTSTAMP:20260420T184440
CREATED:20250701T152255Z
LAST-MODIFIED:20250701T152255Z
UID:3396-1751371200-1751562000@ciudadinteligente.cordoba.gob.ar
SUMMARY:Primera Conferencia Climática Internacional “Compromiso Latinoamericano” y la V Cumbre Mundial de Economía Circular\,
DESCRIPTION:Córdoba será sede de la Primera Conferencia Climática Internacional “Compromiso Latinoamericano” y la V Cumbre Mundial de Economía Circular\, los días 1\, 2 y 3 de julio en el Centro de Convenciones. \n🤝 En esta edición\, CorLab participa activamente impulsando la innovación y el compromiso climático a través del Desafío Innovar por el Clima y el Fondo Córdoba Ciudad Inteligente\, apoyando startups locales y promoviendo soluciones govtech. \n⏰ El 2 de julio a las 12 h será la apertura de la V Cumbre Mundial de Economía Circular\, encabezada por Daniel Passerini\, y a las 14 hs\, jóvenes líderes presentan proyectos para combatir el cambio climático en Córdoba. \n🌱 Sumate a esta oportunidad para conocer\, conectar y transformar. \n👉 Conocé la agenda completa aquí : corlab.cordoba.gob.ar \n 
URL:https://ciudadinteligente.cordoba.gob.ar/evento/primera-conferencia-climatica-internacional-compromiso-latinoamericano-y-la-v-cumbre-mundial-de-economia-circular/
LOCATION:centro de convenciones cordoba\, centro de convenciones cordoba
ATTACH;FMTTYPE=image/jpeg:https://ciudadinteligente.cordoba.gob.ar/wp-content/uploads/2025/07/Key-visual-2_page-0001.jpg
END:VEVENT
END:VCALENDAR