BEGIN:VCALENDAR
VERSION:2.0
PRODID:-//Portal de la Secretaría de Ciudad Inteligente y Transformación Digital - ECPv6.15.20//NONSGML v1.0//EN
CALSCALE:GREGORIAN
METHOD:PUBLISH
X-WR-CALNAME:Portal de la Secretaría de Ciudad Inteligente y Transformación Digital
X-ORIGINAL-URL:https://ciudadinteligente.cordoba.gob.ar
X-WR-CALDESC:Eventos para Portal de la Secretaría de Ciudad Inteligente y Transformación Digital
REFRESH-INTERVAL;VALUE=DURATION:PT1H
X-Robots-Tag:noindex
X-PUBLISHED-TTL:PT1H
BEGIN:VTIMEZONE
TZID:America/Sao_Paulo
BEGIN:STANDARD
TZOFFSETFROM:-0300
TZOFFSETTO:-0300
TZNAME:-03
DTSTART:20240101T000000
END:STANDARD
END:VTIMEZONE
BEGIN:VEVENT
DTSTART;VALUE=DATE:20250312
DTEND;VALUE=DATE:20250313
DTSTAMP:20260420T202208
CREATED:20250310T143017Z
LAST-MODIFIED:20250318T145110Z
UID:2924-1741737600-1741823999@ciudadinteligente.cordoba.gob.ar
SUMMARY:Segundo Encuentro de Intendentes de CIIAR en Neuquén: Inteligencia Artificial para Ciudades Más Innovadoras
DESCRIPTION:Córdoba presente en el Segundo Encuentro de Intendentes de la Coalición de Ciudades por la Inteligencia Artificial en Argentina (CIIAR) \nEl próximo 12 de marzo\, nuestra ciudad participará en este encuentro en Neuquén\, donde junto a otros municipios presentaremos proyectos innovadores con inteligencia artificial para mejorar la atención al vecino\, la movilidad urbana y la seguridad ciudadana. \nPor parte de la secretaría de Ciudad Inteligente y Transformación digital estará presente el director de Ciberseguridad Facundo Oliva Cuneo. \nAdemás\, se lanzarán nuevos comités estratégicos que impulsarán la capacitación\, la regulación y las alianzas con el ecosistema GovTech\, fortaleciendo la transformación digital en la gestión pública. \nMás información en este link: https://ciiar.org/segundo-encuentro-de-intendentes-de-ciiar-en-neuquen-inteligencia-artificial-para-ciudades-mas-innovadoras/
URL:https://ciudadinteligente.cordoba.gob.ar/evento/segundo-encuentro-de-intendentes-de-ciiar-en-neuquen-inteligencia-artificial-para-ciudades-mas-innovadoras/
LOCATION:Neuquén
ATTACH;FMTTYPE=image/png:https://ciudadinteligente.cordoba.gob.ar/wp-content/uploads/2025/03/1.png
END:VEVENT
END:VCALENDAR