BEGIN:VCALENDAR
VERSION:2.0
PRODID:-//Portal de la Secretaría de Ciudad Inteligente y Transformación Digital - ECPv6.15.20//NONSGML v1.0//EN
CALSCALE:GREGORIAN
METHOD:PUBLISH
X-WR-CALNAME:Portal de la Secretaría de Ciudad Inteligente y Transformación Digital
X-ORIGINAL-URL:https://ciudadinteligente.cordoba.gob.ar
X-WR-CALDESC:Eventos para Portal de la Secretaría de Ciudad Inteligente y Transformación Digital
REFRESH-INTERVAL;VALUE=DURATION:PT1H
X-Robots-Tag:noindex
X-PUBLISHED-TTL:PT1H
BEGIN:VTIMEZONE
TZID:America/Sao_Paulo
BEGIN:STANDARD
TZOFFSETFROM:-0300
TZOFFSETTO:-0300
TZNAME:-03
DTSTART:20240101T000000
END:STANDARD
END:VTIMEZONE
BEGIN:VEVENT
DTSTART;TZID=America/Sao_Paulo:20250722T080000
DTEND;TZID=America/Sao_Paulo:20250722T170000
DTSTAMP:20260420T200220
CREATED:20250722T163725Z
LAST-MODIFIED:20250722T163928Z
UID:3482-1753171200-1753203600@ciudadinteligente.cordoba.gob.ar
SUMMARY:Smart City Paraguay 2025
DESCRIPTION:Este 28 y 29 de julio\, la Secretaría de Ciudad Inteligente y Transformación Digital será parte del lanzamiento del Smart City Paraguay 2025\, un evento internacional que reúne innovación\, tecnología\, sostenibilidad y gestión pública en un solo lugar. \nIgnacio Gei\, Secretario de Ciudad Inteligente y Transformación Digital\, formará parte del panel de “Aplicaciones para el Ciudadano”\, presentando el modelo Córdoba y las herramientas desarrolladas para transformar la relación entre el Estado y los vecinos a través de la tecnología y los datos. \nCompartiendo experiencias\, casos de éxito y desafíos sobre el futuro de las ciudades inteligentes en América Latina. \nEl congreso incluye disertaciones sobre gobernanza\, inteligencia artificial\, salud digital\, economía del conocimiento\, energías limpias\, planificación urbana y sostenibilidad ambiental. Además\, de un espacio para el intercambio con referentes de toda la región y organismos internacionales como UNICEF\, Amazon Web Services (AWS)\, EPEC y ESU Medellín. \nPara más info hacer clic acá https://www.smartcitypy.com/ 
URL:https://ciudadinteligente.cordoba.gob.ar/evento/smart-city-paraguay-2025/
LOCATION:paraguay\, Paraguay
ATTACH;FMTTYPE=image/png:https://ciudadinteligente.cordoba.gob.ar/wp-content/uploads/2025/07/006-e1753202229529.png
END:VEVENT
END:VCALENDAR