BEGIN:VCALENDAR
VERSION:2.0
PRODID:-//Portal de la Secretaría de Ciudad Inteligente y Transformación Digital - ECPv6.15.20//NONSGML v1.0//EN
CALSCALE:GREGORIAN
METHOD:PUBLISH
X-WR-CALNAME:Portal de la Secretaría de Ciudad Inteligente y Transformación Digital
X-ORIGINAL-URL:https://ciudadinteligente.cordoba.gob.ar
X-WR-CALDESC:Eventos para Portal de la Secretaría de Ciudad Inteligente y Transformación Digital
REFRESH-INTERVAL;VALUE=DURATION:PT1H
X-Robots-Tag:noindex
X-PUBLISHED-TTL:PT1H
BEGIN:VTIMEZONE
TZID:America/Sao_Paulo
BEGIN:STANDARD
TZOFFSETFROM:-0300
TZOFFSETTO:-0300
TZNAME:-03
DTSTART:20230101T000000
END:STANDARD
END:VTIMEZONE
BEGIN:VEVENT
DTSTART;TZID=America/Sao_Paulo:20241126T080000
DTEND;TZID=America/Sao_Paulo:20241128T150000
DTSTAMP:20260420T213940
CREATED:20240919T222209Z
LAST-MODIFIED:20240919T222209Z
UID:217-1732608000-1732806000@ciudadinteligente.cordoba.gob.ar
SUMMARY:VI Foro Iberoamericano de Compra Pública de Innovación e Innovación Abierta
DESCRIPTION:CorLab\, el laboratorio de Innovación Pública y Govtech de la Municipalidad de Córdoba invita al VI Foro Iberoamericano de Compra Pública de Innovación e Innovación Abierta\, que se realizará en Santiago de Chile. Este evento es organizado por Universidad Diego Portales\, Red Interamericana de Compras Gubernamentales\, Organización de los Estados Americanos y Inter-American Development Bank. \nEl Foro descansará sobre 4 ejes fundamentales y 2 premisas: \n1. La importancia de la capacitación a todos los niveles\, para llegar a producir los cambios necesarios en la demanda y en la oferta para abrazar la innovación abierta y la CPI \n2. Cómo derribar los mitos de la colaboración público-privada para generar ecosistemas basados en la confianza enfocados a conseguir verdadero valor público para los usuarios (implementación de soluciones innovadoras) \nEl evento contará con:\n• Entrevistas alto nivel.\n• 5 Píldoras inspiradoras\, a través de charlas cortas en temas relevantes\n• 6 Talleres para agencias RELAI\, compradores públicos\, entidades solucionadoras y entes de control.\n• 4 Mesas con participación de 7 países: Chile\, Costa Rica\, Uruguay\, Brasil\, Perú\, Argentina y España. • 2 Espacios de Deeplearning CPI con expertos en formato interactivo.\n• 1 Showroom sectorial para mostrar resultados reales de IPC en tres sectores: salud\, transporte y aguas con empresas de 4 países: España\, Uruguay\, Argentina y Brasil. \nII Premios de la Ruta CPI\nEn esta edición del Foro\, se dará continuidad a la iniciativa “Premios Ruta de la CPI” que en la pasada edición fueron lanzados y concluidos en las categorías: #Actitud CPI\, #Estrategia CPI y\n#Proyecto CPI que obtuvieron ganadores de alto nivel. \nLa novedad este 2024\, es la inclusión de la nueva categoría: #FormaciónCPI. ¡Averigua de qué se trata!
URL:https://ciudadinteligente.cordoba.gob.ar/evento/vi-foro-iberoamericano-de-compra-publica-de-innovacion-e-innovacion-abierta/
LOCATION:Universidad Diego Portales
ATTACH;FMTTYPE=image/png:https://ciudadinteligente.cordoba.gob.ar/wp-content/uploads/2024/09/imagen_2024-09-19_191354104.png
END:VEVENT
END:VCALENDAR