BEGIN:VCALENDAR
VERSION:2.0
PRODID:-//Portal de la Secretaría de Ciudad Inteligente y Transformación Digital - ECPv6.15.20//NONSGML v1.0//EN
CALSCALE:GREGORIAN
METHOD:PUBLISH
X-WR-CALNAME:Portal de la Secretaría de Ciudad Inteligente y Transformación Digital
X-ORIGINAL-URL:https://ciudadinteligente.cordoba.gob.ar
X-WR-CALDESC:Eventos para Portal de la Secretaría de Ciudad Inteligente y Transformación Digital
REFRESH-INTERVAL;VALUE=DURATION:PT1H
X-Robots-Tag:noindex
X-PUBLISHED-TTL:PT1H
BEGIN:VTIMEZONE
TZID:America/Sao_Paulo
BEGIN:STANDARD
TZOFFSETFROM:-0300
TZOFFSETTO:-0300
TZNAME:-03
DTSTART:20250101T000000
END:STANDARD
END:VTIMEZONE
BEGIN:VEVENT
DTSTART;TZID=America/Sao_Paulo:20260416T160000
DTEND;TZID=America/Sao_Paulo:20260416T183000
DTSTAMP:20260420T121825
CREATED:20260414T153720Z
LAST-MODIFIED:20260414T154113Z
UID:4185-1776355200-1776364200@ciudadinteligente.cordoba.gob.ar
SUMMARY:Vuelve Potencia Emprendedora 🚀: asegurá tu lugar en la 12ª edición
DESCRIPTION:Hola vecino/a\, \nEl próximo jueves 16 de abril llega una nueva edición de Potencia Emprendedora 🚀\, el encuentro más importante del ecosistema emprendedor cordobés. \nUna jornada sin costo\, pensada para inspirarte\, conectarte y llevar tu proyecto al siguiente nivel. Ya participaron más de 4.000 emprendedores en ediciones anteriores. \n¿Qué vas a vivir?\n• Una entrevista en vivo con Ivana Cavigliasso (Prodeman / Maní King) sobre cómo construir una empresa sólida y sostenible en el tiempo.\n • La charla “Del dato al impacto: cómo la IA está reescribiendo la salud” por Facundo Tabares (Avedian).\n • Un módulo práctico de networking y vinculación con Sol Ábalos y Edgardo Donato (Mundos E). \n¿Para quién es?\nEmprendedores\, PyMEs y personas con ideas en desarrollo que quieran inspirarse\, generar conexiones y potenciar su crecimiento. \n📅 Jueves 16 de abril\n🕓 16:00 a 18:30 hs\n📍 Auditorio Globant “La Docta” — Av. Colón 3440 \nCupos limitados. Inscribite acá: \nPara más información\, seguinos en Instagram: https://www.instagram.com/clubdeemprendedorescba/
URL:https://ciudadinteligente.cordoba.gob.ar/evento/vuelve-potencia-emprendedora-%f0%9f%9a%80-asegura-tu-lugar-en-la-12a-edicion/
LOCATION:Auditorio Globant “La Docta”\, Av. Colón 3440\, Córdoba\, Córdoba\, X5000\, Argentina
ATTACH;FMTTYPE=image/png:https://ciudadinteligente.cordoba.gob.ar/wp-content/uploads/2026/04/DISENOS-POTENCIA-1.png
END:VEVENT
END:VCALENDAR